BEGIN:VCALENDAR
VERSION:2.0
PRODID:-//wp-events-plugin.com//7.2.3.1//EN
TZID:Europe/Berlin
X-WR-TIMEZONE:Europe/Berlin
BEGIN:VEVENT
UID:4@freizeit-ferienhof.de
DTSTART;TZID=Africa/Abidjan:20240807T150000
DTEND;TZID=Africa/Abidjan:20240807T170000
DTSTAMP:20240803T082645Z
URL:https://freizeit-ferienhof.de/veranstaltungen/sommer-open-air-mit-moni
 ka-martin-lips-kakadushow/
SUMMARY:Sommer Open Air mit Monika Martin & Lips-Kakadushow
DESCRIPTION:Sommer Open Air mit Monika Martin &amp\; Lips-Kakadushow\n\nDie
  österreichische Professorin aus Graz begeistert mit Charme und Stimme un
 d ist nach vielen Jahren endlich einmal wieder in Großpaschleben zu Gast.
 \n\nDie Markkleeberger Kakadushow der Lips ist etwas für jung und alt. Di
 e lustigen Tricks der weißen Vögel mit ihren gelben Häubchen sind einfa
 ch eine Schau!
ATTACH;FMTTYPE=image/jpeg:https://freizeit-ferienhof.de/wp-content/uploads
 /2023/07/Sommer-Open-Air-07.08.2024.png
LOCATION:Paschlewwer Freizeit & Ferienhof im Innenhof\, Trinumer Weg 4\, Os
 ternienburger Land\, 06386\, Deutschland
X-APPLE-STRUCTURED-LOCATION;VALUE=URI;X-ADDRESS=Trinumer Weg 4\, Osternienb
 urger Land\, 06386\, Deutschland;X-APPLE-RADIUS=100;X-TITLE=Paschlewwer Fr
 eizeit & Ferienhof im Innenhof:geo:0,0
END:VEVENT
BEGIN:VTIMEZONE
TZID:Africa/Abidjan
X-LIC-LOCATION:Africa/Abidjan
BEGIN:STANDARD
DTSTART:20230808T150000
TZOFFSETFROM:+0000
TZOFFSETTO:+0000
TZNAME:GMT
END:STANDARD
END:VTIMEZONE
END:VCALENDAR